BEGIN:VCALENDAR
VERSION:2.0
PRODID:-//Care Farms - ECPv5.12.2//NONSGML v1.0//EN
CALSCALE:GREGORIAN
METHOD:PUBLISH
X-WR-CALNAME:Care Farms
X-ORIGINAL-URL:https://carefarms.sk
X-WR-CALDESC:Events for Care Farms
REFRESH-INTERVAL;VALUE=DURATION:PT1H
X-Robots-Tag:noindex
X-PUBLISHED-TTL:PT1H
BEGIN:VTIMEZONE
TZID:Europe/Paris
BEGIN:DAYLIGHT
TZOFFSETFROM:+0100
TZOFFSETTO:+0200
TZNAME:CEST
DTSTART:20220327T010000
END:DAYLIGHT
BEGIN:STANDARD
TZOFFSETFROM:+0200
TZOFFSETTO:+0100
TZNAME:CET
DTSTART:20221030T010000
END:STANDARD
END:VTIMEZONE
BEGIN:VEVENT
DTSTART;VALUE=DATE:20220706
DTEND;VALUE=DATE:20220708
DTSTAMP:20260419T214411
CREATED:20220117T070428Z
LAST-MODIFIED:20220117T085513Z
UID:6954-1657065600-1657238399@carefarms.sk
SUMMARY:Conference: Do As I Do - Fumi Higaki in Poland!
DESCRIPTION:The Conference is for those interested in working with dogs and cats based on social learning.\n\nFull-day lectures on the Do As I Do method will be conducted by Fumi Higaki\, who is a member of the expert team of this method. Fumi Higaki has been working with the DAID method since 2013 alongside PhD. Claudia Fugazza – the creator of this method.\n___________________________\nPrice:\ntill 31.03.2022 – 297 PLN \nafter 1.04.2022 – 347 PLN\n___________________________\nThe number of places is limited!\n\n More info:\n languages: English / Polish (simultaneous translation)\n food (coffee and lunch break)\n duration: 10:00 – 16:00\n registration: 9:00 am – 9:45 am\n\nFumi Higaki:\n will reveal the scientific basis for the effectiveness of this method\,\n will explain how dogs and cats work and function in work based on social learning and cooperation\,\n will show you how this method allows you to learn new behaviors and skills faster and easier\,\n will talk about the impact of this method on building human-animal relations;\n\nFor whom?\n for professionals working with dogs and/or cats\, and amateurs\,\n for those who want to be up to date with new training methods as well as scientific research.\n for those who want to learn how to apply social learning;\n\n Organizer:\nAnimals for People Association (Stowarzyszenie Zwierzęta Ludziom)\n Partners:\nSGGW\, Warsaw University of Life Sciences \nDepartment of Animal Sciences
URL:https://carefarms.sk/program/conference-do-as-i-do-fumi-higaki-in-poland/
LOCATION:Warsaw University of Life Sciences\, Nowoursynowska 166\, Warsaw\, Poland
CATEGORIES:Conference
ATTACH;FMTTYPE=image/jpeg:https://carefarms.sk/wp-content/uploads/2022/01/271851585_10158455676496629_1077591500900120266_n.jpg
END:VEVENT
END:VCALENDAR