BEGIN:VCALENDAR
VERSION:2.0
PRODID:-//Care Farms - ECPv5.12.2//NONSGML v1.0//EN
CALSCALE:GREGORIAN
METHOD:PUBLISH
X-WR-CALNAME:Care Farms
X-ORIGINAL-URL:https://carefarms.sk
X-WR-CALDESC:Events for Care Farms
REFRESH-INTERVAL;VALUE=DURATION:PT1H
X-Robots-Tag:noindex
X-PUBLISHED-TTL:PT1H
BEGIN:VTIMEZONE
TZID:UTC
BEGIN:STANDARD
TZOFFSETFROM:+0000
TZOFFSETTO:+0000
TZNAME:UTC
DTSTART:20220101T000000
END:STANDARD
END:VTIMEZONE
BEGIN:VEVENT
DTSTART;VALUE=DATE:20220907
DTEND;VALUE=DATE:20220908
DTSTAMP:20260419T180447
CREATED:20190513T063611Z
LAST-MODIFIED:20220606T051014Z
UID:923-1662508800-1662595199@carefarms.sk
SUMMARY:Raising awareness
DESCRIPTION:
URL:https://carefarms.sk/program/raising-awareness/
LOCATION:Conference\, Zelená Lagúna\, Vranovská cesta č.900/2\, Domaša rekreačná oblasť Dobrá\, 094 02\, Slovakia (Slovak Republic)
CATEGORIES:Conference
ATTACH;FMTTYPE=image/jpeg:https://carefarms.sk/wp-content/uploads/2022/01/galery26.jpg
ORGANIZER;CN="Care%20Farms":MAILTO:slavka@animalpartners.sk
END:VEVENT
BEGIN:VEVENT
DTSTART;VALUE=DATE:20220907
DTEND;VALUE=DATE:20220908
DTSTAMP:20260419T180447
CREATED:20220105T102443Z
LAST-MODIFIED:20221026T123956Z
UID:5960-1662508800-1662595199@carefarms.sk
SUMMARY:Conference in Slovakia/Zelená Lagúna Domaša
DESCRIPTION: 9:00                Príhovor:  PhDr. Mgr. et. Mgr. Martina Čontofalská Michalková\, Zmysel života\, n. o. (SK)\nWelfare hospodárskych zvierat (Animal welfare among farm animals): Dr. Christine Olsen\, ICofA/ Dyrebar Omsorg (NOR)\nIntervencie s asistenciou psov na Slovensku optikou procesov profesionalizacie :Doc. PhDr. Denisa Šoltésová\, PhD.\, Trojlístok n.o. (SK)\nIntervencie s asistenciou psov v nemocniciach (Dog Assisted Interventions in hospitals): Magdalena Nawarecka – Piatek\,  Stowarzyszenie zwierzeta ludziom (PL)\nEtické dilemy v zapojení zvierat do intervencií s ich asistenciou: Mgr. Katarína Šándorová\,  Animal centrum – Spoločný svet\, o.z. (SK)\nIntervencie s asistenciou zvierat na farmách (Animal Assisted Interventions on farms): Line Sandstedt\, ICofA/ Dyrebar Omsorg (NOR)\n13:00                  OBED\nVplyv hiporehabilitácie na rozvoj grafomotoriky (Vliv hiporehabilitace na rozvoj grafomotoriky): Mgr. Ing. Markéta Píšová\, Ph.D. a Mgr. Martina Procházková\, Česká hiporehabilitační společnost (CZ)\nPrvky výcviku psov v intervenciách s asistenciou zvierat (Elements of dog training in AAI): Sabina Zlotorowicz\, Stowarzyszenie zwierzeta ludziom (PL)\nNeurodiverzita alebo každý mozog je jedinečný  – Mgr. Viera Hincová\, A centrum/Beznavodu (SK)\nFarmy starostlivosti pre udržateľnú a inkluzívnu budúcnosť: Bc. Slavomíra Dupláková\, Zvieratá a ľudia navzájom\, o.z. (SK)\n 18:00             Ukončenie konferencie – PhDr. Mgr. et. Mgr. Martina Čontofalská Michalková\, Zmysel života\, n. o. (SK)\n18:00                 VEČERA
URL:https://carefarms.sk/program/conference-kosice/
LOCATION:Zelená Lagúna\, Vranovská cesta č. 900/2 Domaša rekreačná oblasť Dobrá\, Slovakia (Slovak Republic)
CATEGORIES:Conference,Upcoming
ATTACH;FMTTYPE=image/jpeg:https://carefarms.sk/wp-content/uploads/2022/01/s-lesankou.jpg
ORGANIZER;CN="Zvierat%C3%A1%20a%20%C4%BEudia%20navz%C3%A1jom%20o.z.":MAILTO:slavka@animalpartners.sk
END:VEVENT
END:VCALENDAR